BEGIN:VCALENDAR
VERSION:2.0
PRODID:-//81.28.228.67//NONSGML kigkonsult.se iCalcreator 2.20//
CALSCALE:GREGORIAN
METHOD:PUBLISH
X-WR-TIMEZONE:UTC
BEGIN:VEVENT
UID:event13@globus-events.de
DTSTAMP:20260422T085809Z
CATEGORIES:Märkte
DESCRIPTION:So 03.11.2019 - ITZEHOE | Wochenmarktplatz Malzmüllerwiesen\nKa
 tegorie: Märkte\nICS-Link: http://globus-events.de/index.php?option=com_je
 m&view=event&id=13:so-03-11-2019-itzehoe-wochenmarktplatz-malzmuellerwiese
 n\n
DTSTART:20191103T080000Z
DTEND:20191103T160000Z
LOCATION:ITZEHOE-MALZMÜLLERWIESEN\,Schumacherallee (Malzmüllerwisen)\,25524
  Itzehoe
SUMMARY:So 03.11.2019 - ITZEHOE | Wochenmarktplatz Malzmüllerwiesen
URL:http://globus-events.de/index.php?option=com_jem&view=event&id=13:so-03
 -11-2019-itzehoe-wochenmarktplatz-malzmuellerwiesen
END:VEVENT
END:VCALENDAR
