BEGIN:VCALENDAR
VERSION:2.0
PRODID:-//81.28.228.67//NONSGML kigkonsult.se iCalcreator 2.20//
CALSCALE:GREGORIAN
METHOD:PUBLISH
X-WR-TIMEZONE:UTC
BEGIN:VEVENT
UID:event50@globus-events.de
DTSTAMP:20260423T090835Z
CATEGORIES:Märkte
DESCRIPTION:So 28.07.2019 - HALSTENBEK | ADLER MODEN\nKategorie: Märkte\nIC
 S-Link: http://globus-events.de/index.php?option=com_jem&view=event&id=50:
 so-28-07-2019-halstenbek-adler-moden\n
DTSTART:20190728T080000Z
DTEND:20190728T160000Z
LOCATION:HALSTENBEK\,Seemoorweg 3\,25469 HALSTENBEK
SUMMARY:So 28.07.2019 - HALSTENBEK | ADLER MODEN
URL:http://globus-events.de/index.php?option=com_jem&view=event&id=50:so-28
 -07-2019-halstenbek-adler-moden
END:VEVENT
END:VCALENDAR
