BEGIN:VCALENDAR
VERSION:2.0
PRODID:-//81.28.228.67//NONSGML kigkonsult.se iCalcreator 2.20//
CALSCALE:GREGORIAN
METHOD:PUBLISH
X-WR-TIMEZONE:UTC
BEGIN:VEVENT
UID:event56@globus-events.de
DTSTAMP:20260420T094854Z
CATEGORIES:Märkte
DESCRIPTION:So 14.07.2019 - HEILIGENSTEDTEN | OBI-Haupthoff-Flohmarkt\nKate
 gorie: Märkte\nICS-Link: http://globus-events.de/index.php?option=com_jem&
 view=event&id=56:so-14-07-2019-heiligenstedten-obi-haupthoff-flohmarkt\n
DTSTART:20190714T080000Z
DTEND:20190714T160000Z
LOCATION:HEILIGENSTEDTEN\,Juliankadamm 20\,25524 HEILIGENSTEDTEN
SUMMARY:So 14.07.2019 - HEILIGENSTEDTEN | OBI-Haupthoff-Flohmarkt
URL:http://globus-events.de/index.php?option=com_jem&view=event&id=56:so-14
 -07-2019-heiligenstedten-obi-haupthoff-flohmarkt
END:VEVENT
END:VCALENDAR
