BEGIN:VCALENDAR
VERSION:2.0
PRODID:-//81.28.228.67//NONSGML kigkonsult.se iCalcreator 2.20//
CALSCALE:GREGORIAN
METHOD:PUBLISH
X-WR-TIMEZONE:UTC
BEGIN:VEVENT
UID:event62@globus-events.de
DTSTAMP:20260421T101856Z
CATEGORIES:Märkte
DESCRIPTION:So 22.10.2017 - HALSTENBEK | ADLER MODEN\nKategorie: Märkte\nIC
 S-Link: http://globus-events.de/index.php?option=com_jem&view=event&id=62:
 so-22-10-2017-halstenbek-adler-moden\n
DTSTART:20171022T080000Z
DTEND:20171022T160000Z
LOCATION:HALSTENBEK\,Seemoorweg 3\,25469 HALSTENBEK
SUMMARY:So 22.10.2017 - HALSTENBEK | ADLER MODEN
URL:http://globus-events.de/index.php?option=com_jem&view=event&id=62:so-22
 -10-2017-halstenbek-adler-moden
END:VEVENT
END:VCALENDAR
